BEGIN:VCALENDAR
VERSION:2.0
PRODID:icalendar-ruby
CALSCALE:GREGORIAN
METHOD:PUBLISH
BEGIN:VEVENT
DTSTAMP:20260422T101157Z
UID:319-1488@centrepointchurch.org.au
DTSTART:20260503T000000Z
DTEND:20260503T010000Z
CLASS:PUBLIC
CREATED:20260416T145956
DESCRIPTION:New to Centrepoint? We’d love for you to join us for our Welc
 ome Morning Tea on Sunday\, May 3rd! We’ll be gathering at 10 am right a
 fter the service. It’s a relaxed way to meet our leaders\, connect with 
 other new faces\, and enjoy some delicious treats prepared just for you. W
 e can’t wait to meet you!\n \nRegister via this link:\nhttps://centrepo
 intchurchbrisbane.elvanto.com.au/form/288c2e95-46f3-42d4-a68e-77043d5dd83b
 \n 
LAST-MODIFIED:20260416T145956
LOCATION:240 Hamilton Road\, Chermside
SUMMARY:Welcome Morning Tea Chermside
URL;VALUE=URI:https://www.centrepointchurch.org.au/events/welcome-morning-t
 ea-chermside--319/2026-05-03
ATTACH;FILENAME=Copy of Copy of Copy of Copy of Welcome Lunch and Morning T
 ea banners (Presentation).png;FMTTYPE=image/png:https://dq5pwpg1q8ru0.clou
 dfront.net/2026/04/16/04/59/56/ebbf1db5-805d-44ef-b1b8-8bdb96b98fda/Copy%2
 0of%20Copy%20of%20Copy%20of%20Copy%20of%20Welcome%20Lunch%20and%20Morning%
 20Tea%20banners%20(Presentation).png
END:VEVENT
END:VCALENDAR
