BEGIN:VCALENDAR
VERSION:2.0
PRODID:icalendar-ruby
CALSCALE:GREGORIAN
METHOD:PUBLISH
BEGIN:VEVENT
DTSTAMP:20260422T101339Z
UID:320-1490@centrepointchurch.org.au
DTSTART:20260506T090000Z
DTEND:20260527T100000Z
CLASS:PUBLIC
CREATED:20260416T154409
DESCRIPTION:Join Dr Van Shore for a 4-week exploration of Revelation\, star
 ting 6th May at 7 pm via Zoom. Created by Alphacrucis University College a
 nd facilitated by Laura Neil\, this course reveals a breathtaking vision o
 f Jesus and the cosmic struggle between Rome and God’s kingdom. Discover
  how this ancient imagery inspires faith\, hope\, and leadership for today
 ’s challenges. We can offer the course at the reduced price of $20\, whi
 ch is more than half the usual cost\, so register today!\n \nRegister via
  this link:\nhttps://centrepointchurchbrisbane.elvanto.com.au/form/95ff072
 2-47fe-4de7-bb05-926e74a158c1\n 
LAST-MODIFIED:20260416T154409
LOCATION:Zoom
SUMMARY:Understanding Revelation
URL;VALUE=URI:https://www.centrepointchurch.org.au/events/understanding-rev
 elation/2026-05-06
ATTACH;FILENAME=Untitled design (7).png;FMTTYPE=image/png:https://dq5pwpg1q
 8ru0.cloudfront.net/2026/04/16/05/41/31/0a1cdfed-8a21-43aa-b844-f9d1762044
 10/Untitled%20design%20(7).png
END:VEVENT
END:VCALENDAR
